BEGIN:VCALENDAR
VERSION:2.0
PRODID:-//Menara 165 - ECPv6.15.20//NONSGML v1.0//EN
CALSCALE:GREGORIAN
METHOD:PUBLISH
X-WR-CALNAME:Menara 165
X-ORIGINAL-URL:https://menara165.com
X-WR-CALDESC:Events for Menara 165
REFRESH-INTERVAL;VALUE=DURATION:PT1H
X-Robots-Tag:noindex
X-PUBLISHED-TTL:PT1H
BEGIN:VTIMEZONE
TZID:Asia/Jakarta
BEGIN:STANDARD
TZOFFSETFROM:+0700
TZOFFSETTO:+0700
TZNAME:WIB
DTSTART:20240101T000000
END:STANDARD
END:VTIMEZONE
BEGIN:VEVENT
DTSTART;VALUE=DATE:20250914
DTEND;VALUE=DATE:20250915
DTSTAMP:20260421T053625
CREATED:20250902T070655Z
LAST-MODIFIED:20250902T070655Z
UID:14805-1757808000-1757894399@menara165.com
SUMMARY:Syukuran Wedding Nasywa & Hasan
DESCRIPTION:
URL:https://menara165.com/event/syukuran-wedding-nasywa-hasan/
LOCATION:Andalucia Hall\, Menara 165\, South Jakarta\, Jakarta\, Indonesia
CATEGORIES:Wedding
ATTACH;FMTTYPE=image/webp:https://menara165.com/wp-content/uploads/2025/09/Syukuran-wedding-Nasywa-Hasan-14-Sept-Andalucia-20250902070645.webp
END:VEVENT
BEGIN:VEVENT
DTSTART;VALUE=DATE:20250913
DTEND;VALUE=DATE:20250914
DTSTAMP:20260421T053625
CREATED:20250902T071131Z
LAST-MODIFIED:20250902T071131Z
UID:14817-1757721600-1757807999@menara165.com
SUMMARY:Wedding Nasywa & Hasan
DESCRIPTION:
URL:https://menara165.com/event/wedding-nasywa-hasan/
LOCATION:Granada Ballroom\, Menara 165\, South Jakarta\, Jakarta\, Indonesia
ATTACH;FMTTYPE=image/webp:https://menara165.com/wp-content/uploads/2025/09/Wedding-Nasywa-hasan-13-SeptGranada_-20250902071010.webp
END:VEVENT
BEGIN:VEVENT
DTSTART;VALUE=DATE:20250913
DTEND;VALUE=DATE:20250914
DTSTAMP:20260421T053625
CREATED:20250902T070804Z
LAST-MODIFIED:20250902T070804Z
UID:14808-1757721600-1757807999@menara165.com
SUMMARY:Wedding Anggi & Syahid
DESCRIPTION:
URL:https://menara165.com/event/wedding-anggi-syahid/
LOCATION:Andalucia Hall\, Menara 165\, South Jakarta\, Jakarta\, Indonesia
CATEGORIES:Wedding
ATTACH;FMTTYPE=image/webp:https://menara165.com/wp-content/uploads/2025/09/Wedding-Anggi-Syahid-13-Sept-Andalucia-20250902070751.webp
END:VEVENT
BEGIN:VEVENT
DTSTART;VALUE=DATE:20250910
DTEND;VALUE=DATE:20250911
DTSTAMP:20260421T053625
CREATED:20250902T071407Z
LAST-MODIFIED:20250902T071421Z
UID:14825-1757462400-1757548799@menara165.com
SUMMARY:Wisuda UAG
DESCRIPTION:
URL:https://menara165.com/event/wisuda-uag-granada/
LOCATION:Granada Ballroom\, Menara 165\, South Jakarta\, Jakarta\, Indonesia
CATEGORIES:Wisuda
ATTACH;FMTTYPE=image/webp:https://menara165.com/wp-content/uploads/2025/09/Wisuda-UAG-10-Sept-Granada-20250902071417.webp
END:VEVENT
BEGIN:VEVENT
DTSTART;VALUE=DATE:20250910
DTEND;VALUE=DATE:20250911
DTSTAMP:20260421T053625
CREATED:20250902T071341Z
LAST-MODIFIED:20250902T071341Z
UID:14823-1757462400-1757548799@menara165.com
SUMMARY:Wisuda UAG
DESCRIPTION:
URL:https://menara165.com/event/wisuda-uag-2/
LOCATION:Gibraltar Room\, Menara 165\, South Jakarta\, Jakarta\, Indonesia
CATEGORIES:Wisuda
ATTACH;FMTTYPE=image/webp:https://menara165.com/wp-content/uploads/2025/09/Wisuda-UAG-10-Sept-Cordoba-20250902071215.webp
END:VEVENT
BEGIN:VEVENT
DTSTART;VALUE=DATE:20250910
DTEND;VALUE=DATE:20250911
DTSTAMP:20260421T053625
CREATED:20250902T071253Z
LAST-MODIFIED:20250902T071253Z
UID:14820-1757462400-1757548799@menara165.com
SUMMARY:Wisuda UAG
DESCRIPTION:
URL:https://menara165.com/event/wisuda-uag/
LOCATION:Cordoba Room\, Menara 165\, South Jakarta\, Jakarta\, Indonesia
CATEGORIES:Wisuda
ATTACH;FMTTYPE=image/webp:https://menara165.com/wp-content/uploads/2025/09/Wisuda-UAG-10-Sept-Cordoba-20250902071215.webp
END:VEVENT
BEGIN:VEVENT
DTSTART;VALUE=DATE:20250727
DTEND;VALUE=DATE:20250728
DTSTAMP:20260421T053625
CREATED:20250707T093758Z
LAST-MODIFIED:20250707T093758Z
UID:14767-1753574400-1753660799@menara165.com
SUMMARY:Wedding Nailah Anas
DESCRIPTION:
URL:https://menara165.com/event/wedding-nailah-anas/
LOCATION:Granada Ballroom\, Menara 165\, South Jakarta\, Jakarta\, Indonesia
CATEGORIES:Wedding
ATTACH;FMTTYPE=image/webp:https://menara165.com/wp-content/uploads/2025/07/Wedding-Nailah-Anas-27-Juli-Granada-20250707070421.webp
END:VEVENT
BEGIN:VEVENT
DTSTART;VALUE=DATE:20250720
DTEND;VALUE=DATE:20250721
DTSTAMP:20260421T053625
CREATED:20250707T093702Z
LAST-MODIFIED:20250707T093702Z
UID:14765-1752969600-1753055999@menara165.com
SUMMARY:Wedding Alifia Akbar
DESCRIPTION:
URL:https://menara165.com/event/wedding-alifia-akbar/
LOCATION:Andalucia Hall\, Menara 165\, South Jakarta\, Jakarta\, Indonesia
ATTACH;FMTTYPE=image/webp:https://menara165.com/wp-content/uploads/2025/07/Wedding-Alifia-Akbar-20-JuliAndalucia-20250707070418.webp
END:VEVENT
BEGIN:VEVENT
DTSTART;VALUE=DATE:20250717
DTEND;VALUE=DATE:20250718
DTSTAMP:20260421T053625
CREATED:20250707T094028Z
LAST-MODIFIED:20250707T094028Z
UID:14773-1752710400-1752796799@menara165.com
SUMMARY:Seminar Atomy
DESCRIPTION:
URL:https://menara165.com/event/seminar-atomy-4/
LOCATION:Andalucia Hall\, Menara 165\, South Jakarta\, Jakarta\, Indonesia
CATEGORIES:Private
ATTACH;FMTTYPE=image/webp:https://menara165.com/wp-content/uploads/2025/07/Seminar-Atomy-03-Juli-10-Juli-17-Juli-Andalucia-20250707070425.webp
END:VEVENT
BEGIN:VEVENT
DTSTART;VALUE=DATE:20250713
DTEND;VALUE=DATE:20250714
DTSTAMP:20260421T053625
CREATED:20250707T093901Z
LAST-MODIFIED:20250707T093901Z
UID:14769-1752364800-1752451199@menara165.com
SUMMARY:Kajian Ustd Ajo
DESCRIPTION:
URL:https://menara165.com/event/kajian-ustd-ajo/
LOCATION:Granada Ballroom\, Menara 165\, South Jakarta\, Jakarta\, Indonesia
CATEGORIES:Kajian
ATTACH;FMTTYPE=image/webp:https://menara165.com/wp-content/uploads/2025/07/Kajian-Ustd-Ajo-13-Juli-Granada-20250707070423.webp
END:VEVENT
BEGIN:VEVENT
DTSTART;VALUE=DATE:20250710
DTEND;VALUE=DATE:20250711
DTSTAMP:20260421T053625
CREATED:20250707T093953Z
LAST-MODIFIED:20250707T093953Z
UID:14771-1752105600-1752191999@menara165.com
SUMMARY:Seminar Atomy
DESCRIPTION:
URL:https://menara165.com/event/seminar-atomy-3/
LOCATION:Andalucia Hall\, Menara 165\, South Jakarta\, Jakarta\, Indonesia
CATEGORIES:Private
ATTACH;FMTTYPE=image/webp:https://menara165.com/wp-content/uploads/2025/07/Seminar-Atomy-03-Juli-10-Juli-17-Juli-Andalucia-20250707070425.webp
END:VEVENT
BEGIN:VEVENT
DTSTART;VALUE=DATE:20250706
DTEND;VALUE=DATE:20250707
DTSTAMP:20260421T053625
CREATED:20250707T093553Z
LAST-MODIFIED:20250707T093553Z
UID:14763-1751760000-1751846399@menara165.com
SUMMARY:Wedding Aryantodi & Odelia
DESCRIPTION:
URL:https://menara165.com/event/wedding-aryantodi-odelia/
LOCATION:Granada Ballroom\, Menara 165\, South Jakarta\, Jakarta\, Indonesia
ATTACH;FMTTYPE=image/webp:https://menara165.com/wp-content/uploads/2025/07/Wedding-Aryantodi-Odelia-06-JuliGranada_-20250707070420.webp
END:VEVENT
BEGIN:VEVENT
DTSTART;VALUE=DATE:20250705
DTEND;VALUE=DATE:20250707
DTSTAMP:20260421T053625
CREATED:20250707T093349Z
LAST-MODIFIED:20250707T093349Z
UID:14759-1751673600-1751846399@menara165.com
SUMMARY:Training ESQ Teens
DESCRIPTION:
URL:https://menara165.com/event/training-esq-teens/
LOCATION:Gibraltar Room\, Menara 165\, South Jakarta\, Jakarta\, Indonesia
ATTACH;FMTTYPE=image/webp:https://menara165.com/wp-content/uploads/2025/07/Training-ESQ-Teens-5-6-Juli-Gibraltar_-20250707070417.webp
END:VEVENT
BEGIN:VEVENT
DTSTART;VALUE=DATE:20250705
DTEND;VALUE=DATE:20250707
DTSTAMP:20260421T053625
CREATED:20250707T093252Z
LAST-MODIFIED:20250707T093252Z
UID:14757-1751673600-1751846399@menara165.com
SUMMARY:Training ESQ Kids
DESCRIPTION:
URL:https://menara165.com/event/training-esq-kids/
LOCATION:Cordoba Room\, Menara 165\, South Jakarta\, Jakarta\, Indonesia
ATTACH;FMTTYPE=image/webp:https://menara165.com/wp-content/uploads/2025/07/Training-ESQ-Kids-5-6-Juli-Cordoba-20250707070416.webp
END:VEVENT
BEGIN:VEVENT
DTSTART;VALUE=DATE:20250705
DTEND;VALUE=DATE:20250706
DTSTAMP:20260421T053625
CREATED:20250707T093156Z
LAST-MODIFIED:20250707T093156Z
UID:14746-1751673600-1751759999@menara165.com
SUMMARY:Seminat IPMA
DESCRIPTION:
URL:https://menara165.com/event/seminat-ipma/
LOCATION:Granada Ballroom\, Menara 165\, South Jakarta\, Jakarta\, Indonesia
ATTACH;FMTTYPE=image/webp:https://menara165.com/wp-content/uploads/2025/07/Seminar-IPMA-5-Juli-Granada-20250707070415.webp
END:VEVENT
BEGIN:VEVENT
DTSTART;VALUE=DATE:20250702
DTEND;VALUE=DATE:20250703
DTSTAMP:20260421T053625
CREATED:20250707T093449Z
LAST-MODIFIED:20250707T093449Z
UID:14761-1751414400-1751500799@menara165.com
SUMMARY:Seminar APTRI
DESCRIPTION:
URL:https://menara165.com/event/seminar-aptri/
LOCATION:Andalucia Hall\, Menara 165\, South Jakarta\, Jakarta\, Indonesia
ATTACH;FMTTYPE=image/webp:https://menara165.com/wp-content/uploads/2025/07/Seminar-APTRI-02-Juli-Andalucia-20250707070424.webp
END:VEVENT
BEGIN:VEVENT
DTSTART;VALUE=DATE:20250626
DTEND;VALUE=DATE:20250627
DTSTAMP:20260421T053625
CREATED:20250612T045740Z
LAST-MODIFIED:20250612T045740Z
UID:14698-1750896000-1750982399@menara165.com
SUMMARY:One Day Seminar Atomy
DESCRIPTION:
URL:https://menara165.com/event/one-day-seminar-atomy-5/
LOCATION:Andalucia Hall\, Menara 165\, South Jakarta\, Jakarta\, Indonesia
CATEGORIES:Private
ATTACH;FMTTYPE=image/jpeg:https://menara165.com/wp-content/uploads/2025/02/One-Day-Seminar.jpg
END:VEVENT
BEGIN:VEVENT
DTSTART;VALUE=DATE:20250621
DTEND;VALUE=DATE:20250622
DTSTAMP:20260421T053625
CREATED:20250612T050203Z
LAST-MODIFIED:20250612T050203Z
UID:14709-1750464000-1750550399@menara165.com
SUMMARY:Pelepasan SMP Global Islamic School
DESCRIPTION:
URL:https://menara165.com/event/pelepasan-smp-global-islamic-school/
LOCATION:Granada Ballroom\, Menara 165\, South Jakarta\, Jakarta\, Indonesia
ATTACH;FMTTYPE=image/webp:https://menara165.com/wp-content/uploads/2025/06/Wisuda-GIS-21-Juni-Granada-20250612045903.webp
END:VEVENT
BEGIN:VEVENT
DTSTART;VALUE=DATE:20250619
DTEND;VALUE=DATE:20250620
DTSTAMP:20260421T053625
CREATED:20250612T050048Z
LAST-MODIFIED:20250612T050048Z
UID:14707-1750291200-1750377599@menara165.com
SUMMARY:Pelepasan Labschool Cibubur
DESCRIPTION:
URL:https://menara165.com/event/pelepasan-labschool-cibubur/
LOCATION:Granada Ballroom\, Menara 165\, South Jakarta\, Jakarta\, Indonesia
CATEGORIES:Private
ATTACH;FMTTYPE=image/webp:https://menara165.com/wp-content/uploads/2025/06/Wisuda-Labschool-19-Juni-Granada-20250612045904.webp
END:VEVENT
BEGIN:VEVENT
DTSTART;VALUE=DATE:20250617
DTEND;VALUE=DATE:20250618
DTSTAMP:20260421T053625
CREATED:20250612T045957Z
LAST-MODIFIED:20250612T050439Z
UID:14700-1750118400-1750204799@menara165.com
SUMMARY:Pelepasan SD Al Ikhlas
DESCRIPTION:
URL:https://menara165.com/event/pelepasan-sd-al-ikhlas/
LOCATION:Granada Ballroom\, Menara 165\, South Jakarta\, Jakarta\, Indonesia
CATEGORIES:Private
ATTACH;FMTTYPE=image/webp:https://menara165.com/wp-content/uploads/2025/06/Wisuda-Al-Ikhlas-17-Juni-Granada-20250612045901.webp
END:VEVENT
BEGIN:VEVENT
DTSTART;VALUE=DATE:20250612
DTEND;VALUE=DATE:20250613
DTSTAMP:20260421T053625
CREATED:20250612T045600Z
LAST-MODIFIED:20250612T045629Z
UID:14695-1749686400-1749772799@menara165.com
SUMMARY:One Day Seminar Atomy
DESCRIPTION:
URL:https://menara165.com/event/one-day-seminar-atomy-4/
LOCATION:Andalucia Hall\, Menara 165\, South Jakarta\, Jakarta\, Indonesia
CATEGORIES:Private
ATTACH;FMTTYPE=image/jpeg:https://menara165.com/wp-content/uploads/2025/02/One-Day-Seminar.jpg
END:VEVENT
BEGIN:VEVENT
DTSTART;VALUE=DATE:20250531
DTEND;VALUE=DATE:20250601
DTSTAMP:20260421T053625
CREATED:20250505T075801Z
LAST-MODIFIED:20250505T075801Z
UID:14585-1748649600-1748735999@menara165.com
SUMMARY:Wisuda SMA Miftahul Ulum
DESCRIPTION:
URL:https://menara165.com/event/wisuda-sma-miftahul-ulum/
LOCATION:Andalucia Hall\, Menara 165\, South Jakarta\, Jakarta\, Indonesia
ATTACH;FMTTYPE=image/jpeg:https://menara165.com/wp-content/uploads/2025/05/Wisuda-Miftahul-31-Mei-Andalucia.jpg
END:VEVENT
BEGIN:VEVENT
DTSTART;VALUE=DATE:20250531
DTEND;VALUE=DATE:20250601
DTSTAMP:20260421T053625
CREATED:20250505T075440Z
LAST-MODIFIED:20250505T075440Z
UID:14582-1748649600-1748735999@menara165.com
SUMMARY:Wisuda SMA GIS
DESCRIPTION:
URL:https://menara165.com/event/wisuda-sma-gis/
LOCATION:Granada Ballroom\, Menara 165\, South Jakarta\, Jakarta\, Indonesia
ATTACH;FMTTYPE=image/jpeg:https://menara165.com/wp-content/uploads/2025/05/Wisuda-GIS-31-Mei-Granada.jpg
END:VEVENT
BEGIN:VEVENT
DTSTART;VALUE=DATE:20250528
DTEND;VALUE=DATE:20250529
DTSTAMP:20260421T053625
CREATED:20250505T073803Z
LAST-MODIFIED:20250505T073803Z
UID:14546-1748390400-1748476799@menara165.com
SUMMARY:Interview Uniqlo
DESCRIPTION:
URL:https://menara165.com/event/interview-uniqlo/
LOCATION:Granada Ballroom\, Menara 165\, South Jakarta\, Jakarta\, Indonesia
CATEGORIES:Private
ATTACH;FMTTYPE=image/jpeg:https://menara165.com/wp-content/uploads/2025/05/Interview-Uniqlo-28-Mei-Gibraltar.jpg
END:VEVENT
BEGIN:VEVENT
DTSTART;VALUE=DATE:20250525
DTEND;VALUE=DATE:20250526
DTSTAMP:20260421T053625
CREATED:20250505T074727Z
LAST-MODIFIED:20250505T074734Z
UID:14569-1748131200-1748217599@menara165.com
SUMMARY:Wedding Nisrina & Fatih
DESCRIPTION:
URL:https://menara165.com/event/wedding-nisrina-fatih-25-mei-granada_/
LOCATION:Granada Ballroom\, Menara 165\, South Jakarta\, Jakarta\, Indonesia
CATEGORIES:Wedding
ATTACH;FMTTYPE=image/jpeg:https://menara165.com/wp-content/uploads/2025/05/Wedding-Nisrina-Fatih-25-Mei-Granada_.jpg
END:VEVENT
BEGIN:VEVENT
DTSTART;VALUE=DATE:20250524
DTEND;VALUE=DATE:20250525
DTSTAMP:20260421T053625
CREATED:20250505T075355Z
LAST-MODIFIED:20250505T075355Z
UID:14579-1748044800-1748131199@menara165.com
SUMMARY:Wisuda SMA Cendrawasih I
DESCRIPTION:
URL:https://menara165.com/event/wisuda-sma-cendrawasih-i/
LOCATION:Granada Ballroom\, Menara 165\, South Jakarta\, Jakarta\, Indonesia
ATTACH;FMTTYPE=image/jpeg:https://menara165.com/wp-content/uploads/2025/05/Wisuda-SMA-Cendrawasih-I-24-Mei-Granada_.jpg
END:VEVENT
BEGIN:VEVENT
DTSTART;VALUE=DATE:20250524
DTEND;VALUE=DATE:20250525
DTSTAMP:20260421T053625
CREATED:20250505T075055Z
LAST-MODIFIED:20250505T075055Z
UID:14573-1748044800-1748131199@menara165.com
SUMMARY:Wedding Rina & Reza
DESCRIPTION:
URL:https://menara165.com/event/wedding-rina-reza/
LOCATION:Andalucia Hall\, Menara 165\, South Jakarta\, Jakarta\, Indonesia
CATEGORIES:Wedding
ATTACH;FMTTYPE=image/jpeg:https://menara165.com/wp-content/uploads/2025/05/Wedding-Rina-24-Mei-Andalucia.jpg
END:VEVENT
BEGIN:VEVENT
DTSTART;VALUE=DATE:20250518
DTEND;VALUE=DATE:20250519
DTSTAMP:20260421T053625
CREATED:20250505T074647Z
LAST-MODIFIED:20250505T074647Z
UID:14566-1747526400-1747612799@menara165.com
SUMMARY:Wedding Melisa & Naufal
DESCRIPTION:
URL:https://menara165.com/event/wedding-melisa-naufal/
LOCATION:Granada Ballroom\, Menara 165\, South Jakarta\, Jakarta\, Indonesia
CATEGORIES:Wedding
ATTACH;FMTTYPE=image/jpeg:https://menara165.com/wp-content/uploads/2025/05/Wedding-Melisa-18-Mei-Granada.jpg
END:VEVENT
BEGIN:VEVENT
DTSTART;VALUE=DATE:20250518
DTEND;VALUE=DATE:20250519
DTSTAMP:20260421T053625
CREATED:20250505T074324Z
LAST-MODIFIED:20250513T043610Z
UID:14553-1747526400-1747612799@menara165.com
SUMMARY:Wedding Diandra & Adi
DESCRIPTION:
URL:https://menara165.com/event/wedding-diandra-adi/
LOCATION:Andalucia Hall\, Menara 165\, South Jakarta\, Jakarta\, Indonesia
CATEGORIES:Wedding
ATTACH;FMTTYPE=image/jpeg:https://menara165.com/wp-content/uploads/2025/05/Wedding-Diandra-18-Mei-Granada.jpg
END:VEVENT
BEGIN:VEVENT
DTSTART;VALUE=DATE:20250515
DTEND;VALUE=DATE:20250516
DTSTAMP:20260421T053625
CREATED:20250505T074138Z
LAST-MODIFIED:20250505T074138Z
UID:14556-1747267200-1747353599@menara165.com
SUMMARY:Seminar Atomy
DESCRIPTION:
URL:https://menara165.com/event/seminar-atomy-2/
LOCATION:Andalucia Hall\, Menara 165\, South Jakarta\, Jakarta\, Indonesia
CATEGORIES:Private
ATTACH;FMTTYPE=image/jpeg:https://menara165.com/wp-content/uploads/2025/05/Seminar-Atomy-8-15-Mei-Andalucia.jpg
END:VEVENT
END:VCALENDAR