BEGIN:VCALENDAR
VERSION:2.0
PRODID:-//Menara 165 - ECPv6.15.20//NONSGML v1.0//EN
CALSCALE:GREGORIAN
METHOD:PUBLISH
X-WR-CALNAME:Menara 165
X-ORIGINAL-URL:https://menara165.com
X-WR-CALDESC:Events for Menara 165
REFRESH-INTERVAL;VALUE=DURATION:PT1H
X-Robots-Tag:noindex
X-PUBLISHED-TTL:PT1H
BEGIN:VTIMEZONE
TZID:Asia/Jakarta
BEGIN:STANDARD
TZOFFSETFROM:+0700
TZOFFSETTO:+0700
TZNAME:WIB
DTSTART:20230101T000000
END:STANDARD
END:VTIMEZONE
BEGIN:VEVENT
DTSTART;TZID=Asia/Jakarta:20250111T110000
DTEND;TZID=Asia/Jakarta:20250111T150000
DTSTAMP:20260421T095500
CREATED:20250107T065843Z
LAST-MODIFIED:20250107T065843Z
UID:14425-1736593200-1736607600@menara165.com
SUMMARY:The Wedding of Tiara & Nando
DESCRIPTION:
URL:https://menara165.com/event/the-wedding-of-tiara-nando/
LOCATION:Granada Ballroom\, Menara 165\, South Jakarta\, Jakarta\, Indonesia
CATEGORIES:Private
ATTACH;FMTTYPE=image/jpeg:https://menara165.com/wp-content/uploads/2025/01/Wedding-Receptions-Tiara-Nando.jpg
END:VEVENT
BEGIN:VEVENT
DTSTART;TZID=Asia/Jakarta:20250109T130000
DTEND;TZID=Asia/Jakarta:20250109T170000
DTSTAMP:20260421T095500
CREATED:20250107T065236Z
LAST-MODIFIED:20250107T065236Z
UID:14422-1736427600-1736442000@menara165.com
SUMMARY:OneDay Seminar\, Atomy Indonesia
DESCRIPTION:
URL:https://menara165.com/event/oneday-seminar-atomy-indonesia/
LOCATION:Andalucia Hall\, Menara 165\, South Jakarta\, Jakarta\, Indonesia
CATEGORIES:Public
ATTACH;FMTTYPE=image/jpeg:https://menara165.com/wp-content/uploads/2024/12/One-Day-Seminar.jpg
END:VEVENT
BEGIN:VEVENT
DTSTART;TZID=Asia/Jakarta:20241221T080000
DTEND;TZID=Asia/Jakarta:20241222T170000
DTSTAMP:20260421T095500
CREATED:20241218T065740Z
LAST-MODIFIED:20241218T065740Z
UID:14412-1734768000-1734886800@menara165.com
SUMMARY:Training ESQ Kids & Teen
DESCRIPTION:
URL:https://menara165.com/event/training-esq-kids-teen/
LOCATION:Gibraltar Room\, Menara 165\, South Jakarta\, Jakarta\, Indonesia
CATEGORIES:Private
ATTACH;FMTTYPE=image/jpeg:https://menara165.com/wp-content/uploads/2024/12/Kids-Teen.jpg
END:VEVENT
BEGIN:VEVENT
DTSTART;TZID=Asia/Jakarta:20241221T080000
DTEND;TZID=Asia/Jakarta:20241222T170000
DTSTAMP:20260421T095500
CREATED:20241218T065627Z
LAST-MODIFIED:20241218T065627Z
UID:14409-1734768000-1734886800@menara165.com
SUMMARY:Manasik Umroh\, ESQ Tour
DESCRIPTION:
URL:https://menara165.com/event/manasik-umroh-esq-tour/
LOCATION:Andalucia Hall\, Menara 165\, South Jakarta\, Jakarta\, Indonesia
CATEGORIES:Private
ATTACH;FMTTYPE=image/jpeg:https://menara165.com/wp-content/uploads/2024/12/Manasik-Umrah-ESQ-Tour.jpg
END:VEVENT
BEGIN:VEVENT
DTSTART;TZID=Asia/Jakarta:20241220T080000
DTEND;TZID=Asia/Jakarta:20241222T170000
DTSTAMP:20260421T095500
CREATED:20241218T065513Z
LAST-MODIFIED:20241218T065513Z
UID:14406-1734681600-1734886800@menara165.com
SUMMARY:Training ESQ 165
DESCRIPTION:
URL:https://menara165.com/event/training-esq-165-2/
LOCATION:Granada Ballroom\, Menara 165\, South Jakarta\, Jakarta\, Indonesia
CATEGORIES:Private
ATTACH;FMTTYPE=image/jpeg:https://menara165.com/wp-content/uploads/2024/12/Training-ESQ.jpg
END:VEVENT
BEGIN:VEVENT
DTSTART;TZID=Asia/Jakarta:20241219T080000
DTEND;TZID=Asia/Jakarta:20241220T170000
DTSTAMP:20260421T095500
CREATED:20241218T065334Z
LAST-MODIFIED:20241218T065334Z
UID:14403-1734595200-1734714000@menara165.com
SUMMARY:Planning Cycle HO\, FIF Group
DESCRIPTION:
URL:https://menara165.com/event/planning-cycle-ho-fif-group/
LOCATION:Andalucia Hall\, Menara 165\, South Jakarta\, Jakarta\, Indonesia
CATEGORIES:Private
ATTACH;FMTTYPE=image/jpeg:https://menara165.com/wp-content/uploads/2024/12/FIF-Group.jpg
END:VEVENT
BEGIN:VEVENT
DTSTART;TZID=Asia/Jakarta:20241218T080000
DTEND;TZID=Asia/Jakarta:20241219T170000
DTSTAMP:20260421T095500
CREATED:20241218T065207Z
LAST-MODIFIED:20241218T065207Z
UID:14400-1734508800-1734627600@menara165.com
SUMMARY:Rapat Kerja\, PT Sejahtera Tridaya Prima
DESCRIPTION:
URL:https://menara165.com/event/rapat-kerja-pt-sejahtera-tridaya-prima/
LOCATION:Gibraltar Room\, Menara 165\, South Jakarta\, Jakarta\, Indonesia
CATEGORIES:Private
ATTACH;FMTTYPE=image/jpeg:https://menara165.com/wp-content/uploads/2024/12/PT-Sejahtera.jpg
END:VEVENT
BEGIN:VEVENT
DTSTART;TZID=Asia/Jakarta:20241215T080000
DTEND;TZID=Asia/Jakarta:20241215T140000
DTSTAMP:20260421T095500
CREATED:20241212T061341Z
LAST-MODIFIED:20241212T061341Z
UID:14391-1734249600-1734271200@menara165.com
SUMMARY:Manasik Umroh\, MQ Travel
DESCRIPTION:
URL:https://menara165.com/event/manasik-umroh-mq-travel/
LOCATION:Andalucia Hall\, Menara 165\, South Jakarta\, Jakarta\, Indonesia
CATEGORIES:Private
ATTACH;FMTTYPE=image/jpeg:https://menara165.com/wp-content/uploads/2024/12/Manasik-Umrah.jpg
END:VEVENT
BEGIN:VEVENT
DTSTART;TZID=Asia/Jakarta:20241214T170000
DTEND;TZID=Asia/Jakarta:20241214T220000
DTSTAMP:20260421T095500
CREATED:20241212T030404Z
LAST-MODIFIED:20241212T030404Z
UID:14385-1734195600-1734213600@menara165.com
SUMMARY:Company Anniversary\, Adinata Harta Internasional
DESCRIPTION:
URL:https://menara165.com/event/company-anniversary-adinata-harta-internasional/
LOCATION:Gibraltar Room\, Menara 165\, South Jakarta\, Jakarta\, Indonesia
ATTACH;FMTTYPE=image/jpeg:https://menara165.com/wp-content/uploads/2024/12/Adinata.jpg
END:VEVENT
BEGIN:VEVENT
DTSTART;TZID=Asia/Jakarta:20241214T080000
DTEND;TZID=Asia/Jakarta:20241214T140000
DTSTAMP:20260421T095500
CREATED:20241212T061203Z
LAST-MODIFIED:20241212T061203Z
UID:14388-1734163200-1734184800@menara165.com
SUMMARY:Resepsi Pernikahan\, Syifa & Hilman
DESCRIPTION:
URL:https://menara165.com/event/resepsi-pernikahan-syifa-hilman/
LOCATION:Andalucia Hall\, Menara 165\, South Jakarta\, Jakarta\, Indonesia
CATEGORIES:Private
ATTACH;FMTTYPE=image/jpeg:https://menara165.com/wp-content/uploads/2024/12/Wedding-Syifa-hilman.jpg
END:VEVENT
BEGIN:VEVENT
DTSTART;TZID=Asia/Jakarta:20241214T080000
DTEND;TZID=Asia/Jakarta:20241214T140000
DTSTAMP:20260421T095500
CREATED:20241212T030202Z
LAST-MODIFIED:20241212T030202Z
UID:14382-1734163200-1734184800@menara165.com
SUMMARY:Resepsi Pernikahan\, Anyelir & Hafidz
DESCRIPTION:
URL:https://menara165.com/event/resepsi-pernikahan-anyelir-hafidz/
LOCATION:Granada Ballroom\, Menara 165\, South Jakarta\, Jakarta\, Indonesia
CATEGORIES:Private
ATTACH;FMTTYPE=image/jpeg:https://menara165.com/wp-content/uploads/2024/12/Anyelir-Hafidz.jpg
END:VEVENT
BEGIN:VEVENT
DTSTART;TZID=Asia/Jakarta:20241213T080000
DTEND;TZID=Asia/Jakarta:20241213T170000
DTSTAMP:20260421T095500
CREATED:20241212T025754Z
LAST-MODIFIED:20241212T025754Z
UID:14379-1734076800-1734109200@menara165.com
SUMMARY:Arisan Indo Jalito
DESCRIPTION:
URL:https://menara165.com/event/arisan-indo-jalito/
LOCATION:Gibraltar Room\, Menara 165\, South Jakarta\, Jakarta\, Indonesia
CATEGORIES:Private
ATTACH;FMTTYPE=image/jpeg:https://menara165.com/wp-content/uploads/2024/12/Indo-Jalito.jpg
END:VEVENT
BEGIN:VEVENT
DTSTART;TZID=Asia/Jakarta:20241212T080000
DTEND;TZID=Asia/Jakarta:20241212T170000
DTSTAMP:20260421T095500
CREATED:20241212T025613Z
LAST-MODIFIED:20241212T025613Z
UID:14376-1733990400-1734022800@menara165.com
SUMMARY:One Day Seminar\, Atomy Indonesia
DESCRIPTION:
URL:https://menara165.com/event/one-day-seminar-atomy-indonesia/
LOCATION:Andalucia Hall\, Menara 165\, South Jakarta\, Jakarta\, Indonesia
CATEGORIES:Private
ATTACH;FMTTYPE=image/jpeg:https://menara165.com/wp-content/uploads/2024/12/One-Day-Seminar.jpg
END:VEVENT
BEGIN:VEVENT
DTSTART;TZID=Asia/Jakarta:20241208T090000
DTEND;TZID=Asia/Jakarta:20241208T190000
DTSTAMP:20260421T095500
CREATED:20241128T023924Z
LAST-MODIFIED:20241128T023924Z
UID:14369-1733648400-1733684400@menara165.com
SUMMARY:165 CERAMA Vol. 2 - Spesial Koh Dennis Lim
DESCRIPTION:
URL:https://menara165.com/event/165-cerama-vol-2-spesial-koh-dennis-lim/
LOCATION:Granada Ballroom\, Menara 165\, South Jakarta\, Jakarta\, Indonesia
CATEGORIES:Terbuka Untuk Umum
ATTACH;FMTTYPE=image/png:https://menara165.com/wp-content/uploads/2024/11/165-Cerama-1.png
END:VEVENT
BEGIN:VEVENT
DTSTART;TZID=Asia/Jakarta:20241205T080000
DTEND;TZID=Asia/Jakarta:20241205T170000
DTSTAMP:20260421T095500
CREATED:20241128T023528Z
LAST-MODIFIED:20241128T023528Z
UID:14365-1733385600-1733418000@menara165.com
SUMMARY:International Conference - Animal Welfare Indonesia
DESCRIPTION:
URL:https://menara165.com/event/international-conference-animal-welfare-indonesia/
LOCATION:Gibraltar Room\, Menara 165\, South Jakarta\, Jakarta\, Indonesia
CATEGORIES:Private
ATTACH;FMTTYPE=image/jpeg:https://menara165.com/wp-content/uploads/2024/11/Meeting-1.jpg
END:VEVENT
BEGIN:VEVENT
DTSTART;TZID=Asia/Jakarta:20241130T080000
DTEND;TZID=Asia/Jakarta:20241130T170000
DTSTAMP:20260421T095500
CREATED:20241128T023401Z
LAST-MODIFIED:20241128T023401Z
UID:14359-1732953600-1732986000@menara165.com
SUMMARY:Graduation Ceremony - AKFAR Bhumi Husada Jakarta
DESCRIPTION:
URL:https://menara165.com/event/graduation-ceremony-akfar-bhumi-husada-jakarta/
LOCATION:Andalucia Hall\, Menara 165\, South Jakarta\, Jakarta\, Indonesia
CATEGORIES:Private
ATTACH;FMTTYPE=image/jpeg:https://menara165.com/wp-content/uploads/2024/11/Graduation-1.jpg
END:VEVENT
BEGIN:VEVENT
DTSTART;TZID=Asia/Jakarta:20241130T080000
DTEND;TZID=Asia/Jakarta:20241130T130000
DTSTAMP:20260421T095500
CREATED:20241128T023717Z
LAST-MODIFIED:20241128T023717Z
UID:14367-1732953600-1732971600@menara165.com
SUMMARY:The Wedding of Fadly & Vivi - Granada Ballroom
DESCRIPTION:
URL:https://menara165.com/event/the-wedding-of-fadly-vivi-granada-ballroom/
LOCATION:Granada Ballroom\, Menara 165\, South Jakarta\, Jakarta\, Indonesia
CATEGORIES:Private
ATTACH;FMTTYPE=image/jpeg:https://menara165.com/wp-content/uploads/2024/11/Wedding-1.jpg
END:VEVENT
BEGIN:VEVENT
DTSTART;TZID=Asia/Jakarta:20241109T080000
DTEND;TZID=Asia/Jakarta:20241109T130000
DTSTAMP:20260421T095500
CREATED:20241106T031852Z
LAST-MODIFIED:20241106T031852Z
UID:14346-1731139200-1731157200@menara165.com
SUMMARY:Beautiful Journey\, Ketika Doa Dijawab Cinta
DESCRIPTION:
URL:https://menara165.com/event/beautiful-journey-ketika-doa-dijawab-cinta/
LOCATION:Granada Ballroom\, Menara 165\, South Jakarta\, Jakarta\, Indonesia
CATEGORIES:Public
ATTACH;FMTTYPE=image/jpeg:https://menara165.com/wp-content/uploads/2024/11/jakarta-bersholawat.jpg
END:VEVENT
BEGIN:VEVENT
DTSTART;TZID=Asia/Jakarta:20241107T110000
DTEND;TZID=Asia/Jakarta:20241107T170000
DTSTAMP:20260421T095500
CREATED:20240611T022823Z
LAST-MODIFIED:20241106T031924Z
UID:13654-1730977200-1730998800@menara165.com
SUMMARY:OneDay Seminar - Atomy Indonesia
DESCRIPTION:Established in 2009\, Atomy is a global network marketing company with direct selling operations in 27 regions worldwide as of December 2023\, including Korea. \nSince it was established\, Atomy has grown rapidly through consumer-centered network marketing that strictly upholds CEO Park Han-gill’s principle of “Absolute Quality\, Absolute Price.” The company has worked tirelessly to create a foundation for sustainable growth based on innovative thinking that sets customer success as its key objective and a corporate culture centered on principles\, inclusive growth\, and sharing. \nAnd on August\, 2024\, Atomi Indonesia will hold another Atomi OneDay Seminar at Andalusia Hall\, Menara 165.
URL:https://menara165.com/event/oneday-seminar-atomy-indonesia-2/
LOCATION:Andalucia Hall\, Menara 165\, South Jakarta\, Jakarta\, Indonesia
CATEGORIES:Private
ATTACH;FMTTYPE=image/png:https://menara165.com/wp-content/uploads/2024/06/Atomi-Indonesia-New.png
END:VEVENT
BEGIN:VEVENT
DTSTART;TZID=Asia/Jakarta:20241107T080000
DTEND;TZID=Asia/Jakarta:20241107T130000
DTSTAMP:20260421T095500
CREATED:20241106T031546Z
LAST-MODIFIED:20241106T031941Z
UID:14340-1730966400-1730984400@menara165.com
SUMMARY:Corporate Meeting - PT Elnusa Tbk
DESCRIPTION:
URL:https://menara165.com/event/corporate-meeting-pt-elnusa-tbk-gibraltar-room/
LOCATION:Gibraltar Room\, Menara 165\, South Jakarta\, Jakarta\, Indonesia
CATEGORIES:Private
ATTACH;FMTTYPE=image/png:https://menara165.com/wp-content/uploads/2024/11/pt-elnusa-tbk-new.png
END:VEVENT
BEGIN:VEVENT
DTSTART;TZID=Asia/Jakarta:20241107T080000
DTEND;TZID=Asia/Jakarta:20241107T130000
DTSTAMP:20260421T095500
CREATED:20241106T031402Z
LAST-MODIFIED:20241106T032009Z
UID:14337-1730966400-1730984400@menara165.com
SUMMARY:Corporate Gathering - PT SIS (Saptaindra Sejati)
DESCRIPTION:
URL:https://menara165.com/event/gathering-pt-saptaindra-sejati-granada-ballroom/
LOCATION:Granada Ballroom\, Menara 165\, South Jakarta\, Jakarta\, Indonesia
CATEGORIES:Private
ATTACH;FMTTYPE=image/png:https://menara165.com/wp-content/uploads/2024/11/PT-SIS.png
END:VEVENT
BEGIN:VEVENT
DTSTART;TZID=Asia/Jakarta:20241030T080000
DTEND;TZID=Asia/Jakarta:20241030T110000
DTSTAMP:20260421T095500
CREATED:20241023T035504Z
LAST-MODIFIED:20241023T035533Z
UID:14315-1730275200-1730286000@menara165.com
SUMMARY:Wisuda Akbid Keris Husada\, Andalucia Hall
DESCRIPTION:
URL:https://menara165.com/event/wisuda-akbid-keris-husada-granada-ballroom/
LOCATION:Andalucia Hall\, Menara 165\, South Jakarta\, Jakarta\, Indonesia
CATEGORIES:Private
ATTACH;FMTTYPE=image/png:https://menara165.com/wp-content/uploads/2024/10/wisuda-akbid-keris-husada.png
END:VEVENT
BEGIN:VEVENT
DTSTART;TZID=Asia/Jakarta:20241025T080000
DTEND;TZID=Asia/Jakarta:20241027T170000
DTSTAMP:20260421T095500
CREATED:20241016T030059Z
LAST-MODIFIED:20241016T030059Z
UID:14306-1729843200-1730048400@menara165.com
SUMMARY:Training ESQ 165\, Granada Ballroom
DESCRIPTION:
URL:https://menara165.com/event/training-esq-165-granada-ballroom/
LOCATION:Granada Ballroom\, Menara 165\, South Jakarta\, Jakarta\, Indonesia
ATTACH;FMTTYPE=image/png:https://menara165.com/wp-content/uploads/2024/10/esq-executive.png
END:VEVENT
BEGIN:VEVENT
DTSTART;TZID=Asia/Jakarta:20241020T080000
DTEND;TZID=Asia/Jakarta:20241020T130000
DTSTAMP:20260421T095500
CREATED:20241016T025443Z
LAST-MODIFIED:20241016T025443Z
UID:14303-1729411200-1729429200@menara165.com
SUMMARY:The Wedding of Deandra & Fadlan\, Granada Ballroom
DESCRIPTION:
URL:https://menara165.com/event/the-wedding-of-deandra-fadlan-granada-ballroom/
LOCATION:Granada Ballroom\, Menara 165\, South Jakarta\, Jakarta\, Indonesia
ATTACH;FMTTYPE=image/png:https://menara165.com/wp-content/uploads/2024/10/pernikahan-deandra-fadlan.png
END:VEVENT
BEGIN:VEVENT
DTSTART;TZID=Asia/Jakarta:20241019T080000
DTEND;TZID=Asia/Jakarta:20241019T130000
DTSTAMP:20260421T095500
CREATED:20241016T025033Z
LAST-MODIFIED:20241016T025033Z
UID:14298-1729324800-1729342800@menara165.com
SUMMARY:The Wedding of Rifa & Reza\, Andalucia Hall
DESCRIPTION:
URL:https://menara165.com/event/the-wedding-of-rifa-reza-andalucia-hall/
LOCATION:Andalucia Hall\, Menara 165\, South Jakarta\, Jakarta\, Indonesia
ATTACH;FMTTYPE=image/png:https://menara165.com/wp-content/uploads/2024/10/pernihana-rifa-reza.png
END:VEVENT
BEGIN:VEVENT
DTSTART;TZID=Asia/Jakarta:20241013T080000
DTEND;TZID=Asia/Jakarta:20241013T130000
DTSTAMP:20260421T095500
CREATED:20241010T065944Z
LAST-MODIFIED:20241010T065944Z
UID:14265-1728806400-1728824400@menara165.com
SUMMARY:The Wedding of Fadil & Indira - Andalucia Hall
DESCRIPTION:
URL:https://menara165.com/event/the-wedding-of-fadil-indira-andalucia-hall/
LOCATION:Andalucia Hall\, Menara 165\, South Jakarta\, Jakarta\, Indonesia
CATEGORIES:Private
ATTACH;FMTTYPE=image/png:https://menara165.com/wp-content/uploads/2024/10/pernihana-Fadil-ndira.png
END:VEVENT
BEGIN:VEVENT
DTSTART;TZID=Asia/Jakarta:20241012T080000
DTEND;TZID=Asia/Jakarta:20241012T170000
DTSTAMP:20260421T095500
CREATED:20241010T065627Z
LAST-MODIFIED:20241010T065651Z
UID:14257-1728720000-1728752400@menara165.com
SUMMARY:Manasik Umroh - PT Manajemen Qolbu Tauhid (MQ Travel)
DESCRIPTION:
URL:https://menara165.com/event/manasik-umroh-pt-manajemen-qolbu-tauhid/
LOCATION:Andalucia Hall\, Menara 165\, South Jakarta\, Jakarta\, Indonesia
CATEGORIES:Private
ATTACH;FMTTYPE=image/png:https://menara165.com/wp-content/uploads/2024/10/manasik-umroh-mq-travel.png
END:VEVENT
BEGIN:VEVENT
DTSTART;TZID=Asia/Jakarta:20241012T080000
DTEND;TZID=Asia/Jakarta:20241012T130000
DTSTAMP:20260421T095500
CREATED:20241010T065808Z
LAST-MODIFIED:20241010T065808Z
UID:14263-1728720000-1728738000@menara165.com
SUMMARY:The Wedding of Nadila & Fadhil - Granada Ballroom
DESCRIPTION:
URL:https://menara165.com/event/the-wedding-of-nadila-fadhil-granada-ballroom/
LOCATION:Granada Ballroom\, Menara 165\, South Jakarta\, Jakarta\, Indonesia
CATEGORIES:Private
ATTACH;FMTTYPE=image/png:https://menara165.com/wp-content/uploads/2024/10/pernikahan-Nadia-Fadhil.png
END:VEVENT
BEGIN:VEVENT
DTSTART;TZID=Asia/Jakarta:20240927T090000
DTEND;TZID=Asia/Jakarta:20240929T210000
DTSTAMP:20260421T095500
CREATED:20240529T014254Z
LAST-MODIFIED:20240605T045317Z
UID:13446-1727427600-1727643600@menara165.com
SUMMARY:2nd 165 Halal Fair
DESCRIPTION:  \n165 Halal Fair merupakan pameran yang didedikasikan untuk menghadirkan kehidupan halal berkualitas dengan menampilkan berbagai produk halal terbaik dari berbagai sektor\, mulai dari makanan dan minuman\, fesyen\, kosmetik\, pariwisata\, keuangan syariah\, hingga produk gaya hidup lainnya. Acara ini diselenggarakan oleh PT. Grha 165 Tbk. dengan mengusung konsep “Halal Way to Life”. \nInfo pemesanan tiket: Klik di sini!
URL:https://menara165.com/event/2nd-165-halal-fair/
LOCATION:Granada Ballroom\, Menara 165\, South Jakarta\, Jakarta\, Indonesia
CATEGORIES:Terbuka Untuk Umum
ATTACH;FMTTYPE=image/jpeg:https://menara165.com/wp-content/uploads/2024/05/440126095_320120624428540_6854150076653711900_n.jpg
END:VEVENT
BEGIN:VEVENT
DTSTART;TZID=Asia/Jakarta:20240908T080000
DTEND;TZID=Asia/Jakarta:20240908T170000
DTSTAMP:20260421T095500
CREATED:20240906T080613Z
LAST-MODIFIED:20240906T080613Z
UID:14202-1725782400-1725814800@menara165.com
SUMMARY:Wisuda Pesantren Tahfidz Maskanul Huffadz
DESCRIPTION:
URL:https://menara165.com/event/wisuda-pesantren-tahfidz-maskanul-huffadz/
LOCATION:Granada Ballroom\, Menara 165\, South Jakarta\, Jakarta\, Indonesia
CATEGORIES:Private
ATTACH;FMTTYPE=image/png:https://menara165.com/wp-content/uploads/2024/09/maskanful-huffadz.png
END:VEVENT
END:VCALENDAR